BEGIN:VCALENDAR
VERSION:2.0
PRODID:-//Human Fam - ECPv6.15.17.1//NONSGML v1.0//EN
CALSCALE:GREGORIAN
METHOD:PUBLISH
X-WR-CALNAME:Human Fam
X-ORIGINAL-URL:https://humanfam.earth
X-WR-CALDESC:Events for Human Fam
REFRESH-INTERVAL;VALUE=DURATION:PT1H
X-Robots-Tag:noindex
X-PUBLISHED-TTL:PT1H
BEGIN:VTIMEZONE
TZID:America/New_York
BEGIN:DAYLIGHT
TZOFFSETFROM:-0500
TZOFFSETTO:-0400
TZNAME:EDT
DTSTART:20220313T070000
END:DAYLIGHT
BEGIN:STANDARD
TZOFFSETFROM:-0400
TZOFFSETTO:-0500
TZNAME:EST
DTSTART:20221106T060000
END:STANDARD
BEGIN:DAYLIGHT
TZOFFSETFROM:-0500
TZOFFSETTO:-0400
TZNAME:EDT
DTSTART:20230312T070000
END:DAYLIGHT
BEGIN:STANDARD
TZOFFSETFROM:-0400
TZOFFSETTO:-0500
TZNAME:EST
DTSTART:20231105T060000
END:STANDARD
BEGIN:DAYLIGHT
TZOFFSETFROM:-0500
TZOFFSETTO:-0400
TZNAME:EDT
DTSTART:20240310T070000
END:DAYLIGHT
BEGIN:STANDARD
TZOFFSETFROM:-0400
TZOFFSETTO:-0500
TZNAME:EST
DTSTART:20241103T060000
END:STANDARD
END:VTIMEZONE
BEGIN:VEVENT
DTSTART;TZID=America/New_York:20231029T130000
DTEND;TZID=America/New_York:20231029T160000
DTSTAMP:20260420T120230
CREATED:20230912T143549Z
LAST-MODIFIED:20230912T143551Z
UID:790-1698584400-1698595200@humanfam.earth
SUMMARY:Gabe FM at Rising Tide
DESCRIPTION:Chill vibes for your afternoon beer enjoyment.
URL:https://humanfam.earth/event/gabe-fm-at-rising-tide/
LOCATION:Rising Tide Bewey\, 103 Fox St\, Portland\, ME\, 04101\, United States
END:VEVENT
BEGIN:VEVENT
DTSTART;TZID=America/New_York:20231015T130000
DTEND;TZID=America/New_York:20231015T160000
DTSTAMP:20260420T120230
CREATED:20230912T143357Z
LAST-MODIFIED:20230912T143359Z
UID:787-1697374800-1697385600@humanfam.earth
SUMMARY:Human Fam at Rising Tide
DESCRIPTION:Chill vibes for your afternoon beer enjoyment.
URL:https://humanfam.earth/event/human-fam-at-rising-tide-6/
LOCATION:Rising Tide Bewey\, 103 Fox St\, Portland\, ME\, 04101\, United States
END:VEVENT
BEGIN:VEVENT
DTSTART;TZID=America/New_York:20231001T130000
DTEND;TZID=America/New_York:20231001T160000
DTSTAMP:20260420T120230
CREATED:20230912T143149Z
LAST-MODIFIED:20230912T143151Z
UID:784-1696165200-1696176000@humanfam.earth
SUMMARY:Mosart212 at Rising Tide
DESCRIPTION:Chill vibes for your afternoon beer enjoyment.
URL:https://humanfam.earth/event/mosart212-at-rising-tide/
LOCATION:Rising Tide Bewey\, 103 Fox St\, Portland\, ME\, 04101\, United States
END:VEVENT
BEGIN:VEVENT
DTSTART;TZID=America/New_York:20230930T003000
DTEND;TZID=America/New_York:20230930T010000
DTSTAMP:20260420T120230
CREATED:20230912T141830Z
LAST-MODIFIED:20230912T141831Z
UID:772-1696033800-1696035600@humanfam.earth
SUMMARY:Mosart212 and more...\, Flask Dance
DESCRIPTION:Some of Portlands top voted DJ’s will be playing what they are know for!
URL:https://humanfam.earth/event/mosart212-and-more-flask-dance/
LOCATION:Flask Lounge\, 117 Spring st\, Portland\, Maine\, 04101
END:VEVENT
BEGIN:VEVENT
DTSTART;TZID=America/New_York:20230923T150000
DTEND;TZID=America/New_York:20230923T190000
DTSTAMP:20260420T120230
CREATED:20230912T142721Z
LAST-MODIFIED:20230912T142850Z
UID:777-1695481200-1695495600@humanfam.earth
SUMMARY:Ribs-N-RnB Day Party at Peaks
DESCRIPTION:Ribs-N-RnB Day Party at Peaks on Sat Sep 23\, 2023 at 6 Welch Street\, Portland\, ME 04108. Get ready to indulge in mouthwatering ribs while grooving to the best RnB beats. \n\n\n\nOur event will kick off at 3:00 PM and promises to be an unforgettable experience. Whether you’re a fan of finger-licking ribs or a lover of smooth RnB tunes\, this day party is the perfect way to spend your Saturday afternoon. \n\n\n\nAt Peaks\, we’ve curated a lively atmosphere where you can relax\, unwind\, and enjoy good music with great company. Our talented DJs will be spinning the very best of RnB hits (we’re talking Luther\, Aretha & Patti all the way to SZA\, Summer Walker & H.E.R.) creating the perfect ambiance for you to dance and let loose. \n\n\n\nLocated on Peaks Island\, our venue offers a cozy and welcoming get-away. You’ll be surrounded by fellow RnB enthusiasts\, creating a vibrant and energetic atmosphere. So grab your friends and make your way to Peaks for an afternoon filled with delicious food\, soulful music\, and unforgettable moments. \n\n\n\nDon’t miss out on this incredible event! Mark your calendars for the Ribs-N-RnB Day Party at Peaks and get ready to have a blast. We can’t wait to see you there! \n\n\n\nNOTE: \n\n\n\nAdmission: \n\n\n\nThis event is open and free to all ages\, but individuals must be 21 or older to consume alcoholic beverages. Attendees under 21 must be accompanied by a parent or legal guardian & will be given bracelet they will keep visible at all times \n\n\n\nJones Landing will begin converting the deck space around 1230/1p\, however . By RSVP’ing\, you can also reserve a table as otherwise\, it will be standing room ONLY \n\n\n\nRSVP and Arrival: \n\n\n\nWe kindly request that you RSVP to help us prepare for YOU!. Plan to arrive early to avoid longer food wait times as the evening progresses. Also\, ONLY Guests who have RSVP’d will be eligible to reserve tables at no cost. \n\n\n\nNote: Jones Landing will be open from 10a and the ferries run at quarter-past the hour EVERY hour (915\, 1015\, 1115). There is a 2 hr break between the 1215 & 215 Peaks Island Ferry. \n\n\n\nFood: In addition to ribs\, various food vendors will be serving a variety of food options including GF & vegetarian options \n\n\n\nAgenda\n\n\n\n3:15 PM – 4:00 PM \n\n\n\nMosart212 \n\n\n\n4:15 PM – 5:00 PM \n\n\n\nDJ RRUGG \n\n\n\n5:15 PM – 6:00 PM \n\n\n\nThe Ambassatah \n\n\n\n6:15 PM – 7:00 PM \n\n\n\nDeejay Onax
URL:https://humanfam.earth/event/ribs-n-rnb-day-party-at-peaks/
LOCATION:Jones Landing\, 6 Welch st\, Portland\, Maine\, 04108
END:VEVENT
BEGIN:VEVENT
DTSTART;TZID=America/New_York:20230922T003000
DTEND;TZID=America/New_York:20230922T010000
DTSTAMP:20260420T120230
CREATED:20230912T140332Z
LAST-MODIFIED:20230912T140334Z
UID:769-1695342600-1695344400@humanfam.earth
SUMMARY:Human Fam at Arcadia
DESCRIPTION:Human Fam will be supplying the sound track to your new high score!!!
URL:https://humanfam.earth/event/human-fam-at-arcadia-2/
LOCATION:Arcadia\, 504 Congress St\, Portland\, Maine\, 04101\, United States
END:VEVENT
BEGIN:VEVENT
DTSTART;TZID=America/New_York:20230903T130000
DTEND;TZID=America/New_York:20230903T160000
DTSTAMP:20260420T120230
CREATED:20230504T135644Z
LAST-MODIFIED:20230504T135647Z
UID:648-1693746000-1693756800@humanfam.earth
SUMMARY:Human Fam at Rising Tide
DESCRIPTION:Mosart212 and gabe fm playing chill outdoor set\, Sunday afternoon
URL:https://humanfam.earth/event/human-fam-at-rising-tide-5/
LOCATION:Rising Tide Bewey\, 103 Fox St\, Portland\, ME\, 04101\, United States
END:VEVENT
BEGIN:VEVENT
DTSTART;TZID=America/New_York:20230827T140000
DTEND;TZID=America/New_York:20230827T170000
DTSTAMP:20260420T120230
CREATED:20230616T131831Z
LAST-MODIFIED:20230616T131833Z
UID:693-1693144800-1693155600@humanfam.earth
SUMMARY:Human Fam at Foundation Brewing
DESCRIPTION:Human Fam bringing the chill vibes to enhance your enjoyment of delicious beer!
URL:https://humanfam.earth/event/human-fam-at-foundation-brewing-2/
LOCATION:Foundation Brewing Company\, 1 Industrial Way #7\, Portland\, ME\, 04103\, United States
END:VEVENT
BEGIN:VEVENT
DTSTART;TZID=America/New_York:20230813T130000
DTEND;TZID=America/New_York:20230813T160000
DTSTAMP:20260420T120230
CREATED:20230504T135508Z
LAST-MODIFIED:20230504T135522Z
UID:645-1691931600-1691942400@humanfam.earth
SUMMARY:Human Fam at Rising Tide
DESCRIPTION:Mosart212 and gabe fm playing chill outdoor set\, Sunday afternoon
URL:https://humanfam.earth/event/human-fam-at-rising-tide-4/
LOCATION:Rising Tide Bewey\, 103 Fox St\, Portland\, ME\, 04101\, United States
END:VEVENT
BEGIN:VEVENT
DTSTART;TZID=America/New_York:20230730T140000
DTEND;TZID=America/New_York:20230730T170000
DTSTAMP:20260420T120230
CREATED:20230616T132609Z
LAST-MODIFIED:20230616T132612Z
UID:699-1690725600-1690736400@humanfam.earth
SUMMARY:Human Fam at Foundation Brewing
DESCRIPTION:Human Fam enhances your beer drinking experience!!!
URL:https://humanfam.earth/event/human-fam-at-foundation-brewing-4/
LOCATION:Foundation Brewing Company\, 1 Industrial Way #7\, Portland\, ME\, 04103\, United States
END:VEVENT
BEGIN:VEVENT
DTSTART;TZID=America/New_York:20230729T180000
DTEND;TZID=America/New_York:20230729T200000
DTSTAMP:20260420T120230
CREATED:20230701T050539Z
LAST-MODIFIED:20230720T091236Z
UID:730-1690653600-1690660800@humanfam.earth
SUMMARY:Modestman Brewing Party!
DESCRIPTION:Human Fam provides the sound for South Portlands newest brewery!!!
URL:https://humanfam.earth/event/modestman-brewing-party/
LOCATION:Modestman Brewing\, 45 Huntress Ave\, South Portland\, Maine\, 04106\, United States
END:VEVENT
BEGIN:VEVENT
DTSTART;TZID=America/New_York:20230729T100000
DTEND;TZID=America/New_York:20230729T170000
DTSTAMP:20260420T120230
CREATED:20230701T050036Z
LAST-MODIFIED:20230701T050038Z
UID:724-1690624800-1690650000@humanfam.earth
SUMMARY:Print Jam
DESCRIPTION:Mosart 212 providing the soundtrack from 12pm until 3:30pm \n\n\n\nThe Running With Scissors Art Studios Steamy Summer Print Jam and Block Party is happening in the East Bayside neighborhood of Portland\, Maine on Saturday\, July 29\, 2023 from 10am – 5pm! Watch Running With Scissors (RWS) print oversized blocks measuring 4×4′ – 4×8′ carved by local artists and print groups using a three-ton asphalt roller. There will be music\, family-friendly activities\, food and beverage\, and art for sale in their parking lot at 250 Anderson Street in Portland\, Maine. This event is free and open to the public. Parking is available on Anderson Street\, Marginal Way\, and the nearby commuter lot. Support the local community and stroll the neighboring East Bayside businesses hosting their own art-focused activities that day. 
URL:https://humanfam.earth/event/print-jam/
LOCATION:ME
END:VEVENT
BEGIN:VEVENT
DTSTART;TZID=America/New_York:20230724T200000
DTEND;TZID=America/New_York:20230724T220000
DTSTAMP:20260420T120230
CREATED:20230701T044445Z
LAST-MODIFIED:20230701T044447Z
UID:709-1690228800-1690236000@humanfam.earth
SUMMARY:Honey Paw at Your Service
DESCRIPTION:Vinyl set with gabe fm
URL:https://humanfam.earth/event/honey-paw-at-your-service/
LOCATION:Honey Paw\, 78 Middle St\, Portland\, ME\, 04101\, United States
END:VEVENT
BEGIN:VEVENT
DTSTART;TZID=America/New_York:20230721T120000
DTEND;TZID=America/New_York:20230722T183000
DTSTAMP:20260420T120230
CREATED:20230701T045555Z
LAST-MODIFIED:20230701T045614Z
UID:714-1689940800-1690050600@humanfam.earth
SUMMARY:Sound 'n Sizzle
DESCRIPTION:Outdoor Music and Food Festival  from 12pm – 6:30 pm\, July 21st and 22nd \n\n\n\nJuly 21st-Friday \n\n\n\nDamn Jamn-12:00p-12:40p \n\n\n\nMosart212-12:50p-1:30p \n\n\n\nSignature Soul-1:40p-2:20p \n\n\n\nAssasi- 2:30p-3:10p \n\n\n\nViva-3:20p-4:00p \n\n\n\nOo Di Lally-4:10p-4:50p \n\n\n\nGraphic Melee-5:00p-5:40p \n\n\n\nGossip Squirrel-5:50p-6:30p \n\n\n\nJuly 22nd-Saturday \n\n\n\nDynamo-P-12:00p-12:40p \n\n\n\nAlejandro Graciano-12:50p-1:30p \n\n\n\nGabe Fm-1:40p-2:20p \n\n\n\nKenya Hall-2:30p-3:10p \n\n\n\nJ-Wizdum-3:20p-4:00p \n\n\n\nRadicule-4:10-4:50p \n\n\n\nJust Milk-5:00p-5:40p \n\n\n\nUnique Unknown-5:50p-6:30p
URL:https://humanfam.earth/event/sound-n-sizzle/
LOCATION:Congress Square\, Congress st\, Portland\, Maine\, 04101\, United States
END:VEVENT
BEGIN:VEVENT
DTSTART;TZID=America/New_York:20230717T190000
DTEND;TZID=America/New_York:20230717T220000
DTSTAMP:20260420T120230
CREATED:20230616T131230Z
LAST-MODIFIED:20230616T132238Z
UID:688-1689620400-1689631200@humanfam.earth
SUMMARY:Monday Boogie at the Zoo w/ Human Fam
DESCRIPTION:Human fam will be bring their flavor to Portland Zoo!!!
URL:https://humanfam.earth/event/monday-boogie-at-the-zoo-w-human-fam/
LOCATION:The Portland Zoo\, 41 Fox St\, Portland\, ME\, 04101\, United States
END:VEVENT
BEGIN:VEVENT
DTSTART;TZID=America/New_York:20230716T130000
DTEND;TZID=America/New_York:20230716T160000
DTSTAMP:20260420T120230
CREATED:20230504T135320Z
LAST-MODIFIED:20230504T135323Z
UID:642-1689512400-1689523200@humanfam.earth
SUMMARY:Human Fam at Rising Tide
DESCRIPTION:Mosart212 and gabe fm playing chill outdoor set\, Sunday afternoon
URL:https://humanfam.earth/event/human-fam-at-rising-tide-3/
LOCATION:Rising Tide Bewey\, 103 Fox St\, Portland\, ME\, 04101\, United States
END:VEVENT
BEGIN:VEVENT
DTSTART;TZID=America/New_York:20230714T220000
DTEND;TZID=America/New_York:20230715T010000
DTSTAMP:20260420T120230
CREATED:20230504T135115Z
LAST-MODIFIED:20230504T135118Z
UID:639-1689372000-1689382800@humanfam.earth
SUMMARY:Second Friday at The Jewel Box w/ gabe fm
DESCRIPTION:gabe fm brings your favorite songs you haven’t heard yet!!!
URL:https://humanfam.earth/event/second-friday-at-the-jewel-box-w-gabe-fm-3/
LOCATION:The Jewel Box\, 644 Congress St\, Portland\, ME\, 04101\, United States
END:VEVENT
BEGIN:VEVENT
DTSTART;TZID=America/New_York:20230625T130000
DTEND;TZID=America/New_York:20230625T160000
DTSTAMP:20260420T120230
CREATED:20230504T134916Z
LAST-MODIFIED:20230504T134918Z
UID:636-1687698000-1687708800@humanfam.earth
SUMMARY:Human Fam at Rising Tide
DESCRIPTION:Mosart212 and gabe fm playing chill outdoor set\, Sunday afternoon
URL:https://humanfam.earth/event/human-fam-at-rising-tide-2/
LOCATION:Rising Tide Bewey\, 103 Fox St\, Portland\, ME\, 04101\, United States
END:VEVENT
BEGIN:VEVENT
DTSTART;TZID=America/New_York:20230624T210000
DTEND;TZID=America/New_York:20230625T010000
DTSTAMP:20260420T120230
CREATED:20230504T134204Z
LAST-MODIFIED:20230504T134207Z
UID:633-1687640400-1687654800@humanfam.earth
SUMMARY:Latin Night at Cocktail Mary – Mucho Mucho Amor
DESCRIPTION:Latin dance night with pop favorites and more\, with gabe fm
URL:https://humanfam.earth/event/latin-night-at-cocktail-mary-mucho-mucho-amor-4/
LOCATION:Cocktail Mary\, 229 Congress st\, Portland\, ME\, 04101\, United States
END:VEVENT
BEGIN:VEVENT
DTSTART;TZID=America/New_York:20230618T140000
DTEND;TZID=America/New_York:20230618T170000
DTSTAMP:20260420T120230
CREATED:20230616T125840Z
LAST-MODIFIED:20230616T125843Z
UID:684-1687096800-1687107600@humanfam.earth
SUMMARY:Human Fam at Foundation Brewing
DESCRIPTION:Human Fam sets the mood for glorious drinks outside and in! Great food and beer\, family friendly.
URL:https://humanfam.earth/event/human-fam-at-foundation-brewing/
LOCATION:Foundation Brewing Company\, 1 Industrial Way #7\, Portland\, ME\, 04103\, United States
END:VEVENT
BEGIN:VEVENT
DTSTART;TZID=America/New_York:20230617T200000
DTEND;TZID=America/New_York:20230618T010000
DTSTAMP:20260420T120230
CREATED:20230616T125000Z
LAST-MODIFIED:20230616T125003Z
UID:676-1687032000-1687050000@humanfam.earth
SUMMARY:Pride at Arcadia
DESCRIPTION:Human Fam is here to party and celebrate Pride in Portland Maine
URL:https://humanfam.earth/event/pride-at-arcadia/
LOCATION:Arcadia\, 504 Congress St\, Portland\, Maine\, 04101\, United States
END:VEVENT
BEGIN:VEVENT
DTSTART;TZID=America/New_York:20230611T130000
DTEND;TZID=America/New_York:20230611T160000
DTSTAMP:20260420T120230
CREATED:20230504T134017Z
LAST-MODIFIED:20230504T134020Z
UID:630-1686488400-1686499200@humanfam.earth
SUMMARY:Human Fam at Rising Tide
DESCRIPTION:Mosart212 and gabe fm playing chill outdoor set\, Sunday afternoon
URL:https://humanfam.earth/event/human-fam-at-rising-tide/
LOCATION:Rising Tide Bewey\, 103 Fox St\, Portland\, ME\, 04101\, United States
END:VEVENT
BEGIN:VEVENT
DTSTART;TZID=America/New_York:20230609T220000
DTEND;TZID=America/New_York:20230610T010000
DTSTAMP:20260420T120230
CREATED:20230504T133655Z
LAST-MODIFIED:20230504T133657Z
UID:627-1686348000-1686358800@humanfam.earth
SUMMARY:Second Friday at The Jewel Box w/ gabe fm
DESCRIPTION:gabe fm brings your favorite songs you haven’t heard yet!!!
URL:https://humanfam.earth/event/second-friday-at-the-jewel-box-w-gabe-fm-2/
LOCATION:The Jewel Box\, 644 Congress St\, Portland\, ME\, 04101\, United States
END:VEVENT
BEGIN:VEVENT
DTSTART;TZID=America/New_York:20230527T210000
DTEND;TZID=America/New_York:20230528T010000
DTSTAMP:20260420T120230
CREATED:20230504T133107Z
LAST-MODIFIED:20230504T133420Z
UID:624-1685221200-1685235600@humanfam.earth
SUMMARY:Latin Night at Cocktail Mary – Mucho Mucho Amor
DESCRIPTION:Latin dance night with pop favorites and more\, with gabe fm
URL:https://humanfam.earth/event/latin-night-at-cocktail-mary-mucho-mucho-amor-3/
LOCATION:Cocktail Mary\, 229 Congress st\, Portland\, ME\, 04101\, United States
END:VEVENT
BEGIN:VEVENT
DTSTART;TZID=America/New_York:20230512T220000
DTEND;TZID=America/New_York:20230513T010000
DTSTAMP:20260420T120230
CREATED:20230420T010637Z
LAST-MODIFIED:20230420T010639Z
UID:615-1683928800-1683939600@humanfam.earth
SUMMARY:Second Friday at The Jewel Box w/ gabe fm\, special guest DJ Redtide
DESCRIPTION:gabe fm brings your favorite songs you haven’t heard yet!!! With special guest DJ Redtide
URL:https://humanfam.earth/event/second-friday-at-the-jewel-box-w-gabe-fm-special-guest-dj-redtide/
LOCATION:The Jewel Box\, 644 Congress St\, Portland\, ME\, 04101\, United States
END:VEVENT
BEGIN:VEVENT
DTSTART;TZID=America/New_York:20230505T210000
DTEND;TZID=America/New_York:20230506T010000
DTSTAMP:20260420T120230
CREATED:20230420T010308Z
LAST-MODIFIED:20230420T010310Z
UID:610-1683320400-1683334800@humanfam.earth
SUMMARY:First Fridays at Arcadia!!!
DESCRIPTION:Human Fam 1ups your gaming with the soundtrack for your high scores.
URL:https://humanfam.earth/event/first-fridays-at-arcadia/
LOCATION:Arcadia\, 504 Congress St\, Portland\, Maine\, 04101\, United States
END:VEVENT
BEGIN:VEVENT
DTSTART;TZID=America/New_York:20230505T170000
DTEND;TZID=America/New_York:20230505T200000
DTSTAMP:20260420T120230
CREATED:20230420T005707Z
LAST-MODIFIED:20230420T005926Z
UID:603-1683306000-1683316800@humanfam.earth
SUMMARY:First Friday at 33 By Hand
DESCRIPTION:Human Fam starts First Friday at 33 By Hand\, come through\, enjoy the art\, enjoy the music\, get the gear!
URL:https://humanfam.earth/event/first-friday-at-33-by-hand/
LOCATION:33 By Hand\, 142 High St\, Portland\, Maine\, 04101\, United States
END:VEVENT
BEGIN:VEVENT
DTSTART;TZID=America/New_York:20230429T210000
DTEND;TZID=America/New_York:20230430T010000
DTSTAMP:20260420T120230
CREATED:20230329T143851Z
LAST-MODIFIED:20230330T153327Z
UID:571-1682802000-1682816400@humanfam.earth
SUMMARY:Latin Night at Cocktail Mary – Mucho Mucho Amor
DESCRIPTION:Latin dance night with pop favorites and more\, with gabe fm
URL:https://humanfam.earth/event/latin-night-at-cocktail-mary-mucho-mucho-amor-2/
LOCATION:Cocktail Mary\, 229 Congress st\, Portland\, ME\, 04101\, United States
END:VEVENT
BEGIN:VEVENT
DTSTART;TZID=America/New_York:20230414T220000
DTEND;TZID=America/New_York:20230415T010000
DTSTAMP:20260420T120230
CREATED:20230313T010846Z
LAST-MODIFIED:20230330T153407Z
UID:553-1681509600-1681520400@humanfam.earth
SUMMARY:Second Friday at The Jewel Box w/ gabe fm
DESCRIPTION:gabe fm brings your favorite songs you haven’t heard yet!!!
URL:https://humanfam.earth/event/second-friday-at-the-jewel-box-w-gabe-fm/
LOCATION:The Jewel Box\, 644 Congress St\, Portland\, ME\, 04101\, United States
END:VEVENT
BEGIN:VEVENT
DTSTART;TZID=America/New_York:20230411T200000
DTEND;TZID=America/New_York:20230411T230000
DTSTAMP:20260420T120230
CREATED:20230329T144830Z
LAST-MODIFIED:20230329T145046Z
UID:574-1681243200-1681254000@humanfam.earth
SUMMARY:DJ Gathering
DESCRIPTION:This event is designed as a way for local DJ’s to meet and discuss the current state of DJing in the greater Portland area; share ideas\, experiences and to help greater our sense of community. \n\n\n\nHosted by gabe fm and Ben Spalding \n\n\n\nDJ Gathering Community Guidelines \n\n\n\n\nTreat all people with respect.\n\n\n\nMake sure that all who want to share and discuss are heard.\n\n\n\nThis event is designed for collaboration\, please keep this in mind.\n\n\n\nKeep conversations moving in a positive direction. *While we may have issues with aspects of what we do\, please talk about solutions to issues rather than only problems.\n\n\n\n\n \n\n\n\n*this event is aimed at working DJ’s\, not promoters\, bar/club owners or aspiring DJ’s. In the future we may put on events for these groups.
URL:https://humanfam.earth/event/dj-gathering/
LOCATION:The Jewel Box\, 644 Congress St\, Portland\, ME\, 04101\, United States
END:VEVENT
END:VCALENDAR